BEGIN:VCALENDAR
VERSION:2.0
PRODID:-//78.137.164.234//NONSGML kigkonsult.se iCalcreator 2.20//
CALSCALE:GREGORIAN
METHOD:PUBLISH
X-FROM-URL:http://stconleths.ie
X-WR-TIMEZONE:Europe/Dublin
BEGIN:VTIMEZONE
TZID:Europe/Dublin
X-LIC-LOCATION:Europe/Dublin
BEGIN:STANDARD
DTSTART:20171029T020000
TZOFFSETFROM:+0100
TZOFFSETTO:+0000
TZNAME:GMT
END:STANDARD
BEGIN:DAYLIGHT
DTSTART:20180325T010000
TZOFFSETFROM:+0000
TZOFFSETTO:+0100
TZNAME:IST
END:DAYLIGHT
END:VTIMEZONE
BEGIN:VEVENT
UID:ai1ec-10757@stconleths.ie/cms
DTSTAMP:20171101T023756Z
CATEGORIES;LANGUAGE=en-GB:SS co-curriculum\,SS curriculum
CONTACT:
DESCRIPTION:
DTSTART;VALUE=DATE:20171127
DTEND;VALUE=DATE:20171202
SEQUENCE:0
SUMMARY:SS: Christmas Exams
URL:http://stconleths.ie/event/ss-christmas-exams/
X-COST-TYPE:free
END:VEVENT
BEGIN:VEVENT
UID:ai1ec-10759@stconleths.ie/cms
DTSTAMP:20171101T023756Z
CATEGORIES;LANGUAGE=en-GB:SS co-curriculum\,SS curriculum
CONTACT:
DESCRIPTION:
DTSTART;VALUE=DATE:20180201
DTEND;VALUE=DATE:20180210
SEQUENCE:0
SUMMARY:S3 / S6 : Mock Exams
URL:http://stconleths.ie/event/s3-s6-mock-exams-2/
X-COST-TYPE:free
END:VEVENT
BEGIN:VEVENT
UID:ai1ec-10760@stconleths.ie/cms
DTSTAMP:20171101T023756Z
CATEGORIES;LANGUAGE=en-GB:SS curriculum
CONTACT:
DESCRIPTION:
DTSTART;VALUE=DATE:20180226
DTEND;VALUE=DATE:20180310
SEQUENCE:0
SUMMARY:S1 / S2 / S5 : Spring Assessments
URL:http://stconleths.ie/event/s1-s2-s5-spring-assessments-2/
X-COST-TYPE:free
END:VEVENT
BEGIN:VEVENT
UID:ai1ec-10761@stconleths.ie/cms
DTSTAMP:20171101T023756Z
CATEGORIES;LANGUAGE=en-GB:SS co-curriculum\,SS curriculum
CONTACT:
DESCRIPTION:
DTSTART;VALUE=DATE:20180606
DTEND;VALUE=DATE:20180623
SEQUENCE:0
SUMMARY:SS: JC & LC Exams
URL:http://stconleths.ie/event/ss-jc-lc-exams/
X-COST-TYPE:free
END:VEVENT
BEGIN:VEVENT
UID:ai1ec-10748@stconleths.ie/cms
DTSTAMP:20171101T023756Z
CATEGORIES;LANGUAGE=en-GB:SS co-curriculum\,SS curriculum
CONTACT:
DESCRIPTION:
DTSTART;TZID=Europe/Dublin:20171109T161500
DTEND;TZID=Europe/Dublin:20171109T184500
LOCATION:School Hall
SEQUENCE:0
SUMMARY:S3 : Parent Teacher Meetings
URL:http://stconleths.ie/event/s3-parent-teacher-meetings-3/
X-COST-TYPE:free
END:VEVENT
BEGIN:VEVENT
UID:ai1ec-10955@stconleths.ie/cms
DTSTAMP:20171101T023756Z
CATEGORIES;LANGUAGE=en-GB:SS co-curriculum\,SS curriculum
CONTACT:
DESCRIPTION:
DTSTART;TZID=Europe/Dublin:20171115T101500
DTEND;TZID=Europe/Dublin:20171115T124500
GEO:+53.321512;-6.265572
LOCATION:Omniplex Rathmines @ 210 Rathmines Rd Lower\, Dublin 6\, Ireland
SEQUENCE:0
SUMMARY:S4-6: Cinema Outing – The Keeper and the Drummer-
URL:http://stconleths.ie/event/s4-6-cinema-outing-the-keeper-and-the-drumme
 r/
X-COST-TYPE:free
END:VEVENT
BEGIN:VEVENT
UID:ai1ec-10479@stconleths.ie/cms
DTSTAMP:20171101T023756Z
CATEGORIES;LANGUAGE=en-GB:JS co-curriculum\,JS curriculum\,SS co-curriculum
 \,SS curriculum
CONTACT:
DESCRIPTION:
DTSTART;TZID=Europe/Dublin:20171120T193000
GEO:+53.328297;-6.24082
LOCATION:St. Conleth's College @ Clyde Rd\, Dublin 4\, Ireland
SEQUENCE:0
SUMMARY:Information Evening for Prospective Pupils and Parents
URL:http://stconleths.ie/event/information-evening-for-prospective-pupils-a
 nd-parents-nov-20th/
X-COST-TYPE:free
X-INSTANT-EVENT:1
END:VEVENT
BEGIN:VEVENT
UID:ai1ec-10750@stconleths.ie/cms
DTSTAMP:20171101T023756Z
CATEGORIES;LANGUAGE=en-GB:SS co-curriculum\,SS curriculum
CONTACT:
DESCRIPTION:
DTSTART;TZID=Europe/Dublin:20171121T161500
DTEND;TZID=Europe/Dublin:20171121T184500
LOCATION:School Hall
SEQUENCE:0
SUMMARY:S5 : Parent Teacher Meetings
URL:http://stconleths.ie/event/s5-parent-teacher-meetings-3/
X-COST-TYPE:free
END:VEVENT
BEGIN:VEVENT
UID:ai1ec-10752@stconleths.ie/cms
DTSTAMP:20171101T023756Z
CATEGORIES;LANGUAGE=en-GB:SS co-curriculum\,SS curriculum
CONTACT:
DESCRIPTION:
DTSTART;TZID=Europe/Dublin:20171207T161500
DTEND;TZID=Europe/Dublin:20171207T184500
LOCATION:School Hall
SEQUENCE:0
SUMMARY:S1 : Parent Teacher Meetings
URL:http://stconleths.ie/event/s1-parent-teacher-meetings-3/
X-COST-TYPE:free
END:VEVENT
BEGIN:VEVENT
UID:ai1ec-10753@stconleths.ie/cms
DTSTAMP:20171101T023756Z
CATEGORIES;LANGUAGE=en-GB:SS co-curriculum\,SS curriculum
CONTACT:
DESCRIPTION:
DTSTART;TZID=Europe/Dublin:20180115T161500
DTEND;TZID=Europe/Dublin:20180115T184500
LOCATION:School Hall
SEQUENCE:0
SUMMARY:S2 : Parent Teacher Meetings
URL:http://stconleths.ie/event/s2-parent-teacher-meetings-3/
X-COST-TYPE:free
END:VEVENT
BEGIN:VEVENT
UID:ai1ec-10756@stconleths.ie/cms
DTSTAMP:20171101T023756Z
CATEGORIES;LANGUAGE=en-GB:SS co-curriculum\,SS curriculum
CONTACT:
DESCRIPTION:
DTSTART;TZID=Europe/Dublin:20180202T161500
DTEND;TZID=Europe/Dublin:20180202T184500
LOCATION:School Hall
SEQUENCE:0
SUMMARY:S4: TY Parent Teacher Meetings
URL:http://stconleths.ie/event/s4-ty-parent-teacher-meetings/
X-COST-TYPE:free
END:VEVENT
BEGIN:VEVENT
UID:ai1ec-8866@stconleths.ie/cms
DTSTAMP:20171101T023756Z
CATEGORIES;LANGUAGE=en-GB:SS co-curriculum\,SS curriculum
CONTACT:
DESCRIPTION:
DTSTART;TZID=Europe/Dublin:20180528T121200
DTEND;TZID=Europe/Dublin:20180601T131200
SEQUENCE:0
SUMMARY:S1\,2\,5: Summer Exams
URL:http://stconleths.ie/event/s125-summer-exams/
X-COST-TYPE:free
END:VEVENT
END:VCALENDAR
