BEGIN:VCALENDAR
VERSION:2.0
PRODID:-//78.137.164.234//NONSGML kigkonsult.se iCalcreator 2.20//
CALSCALE:GREGORIAN
METHOD:PUBLISH
X-FROM-URL:http://stconleths.ie
X-WR-TIMEZONE:Europe/Dublin
BEGIN:VTIMEZONE
TZID:Europe/Dublin
X-LIC-LOCATION:Europe/Dublin
BEGIN:STANDARD
DTSTART:20171029T020000
TZOFFSETFROM:+0100
TZOFFSETTO:+0000
TZNAME:GMT
END:STANDARD
BEGIN:DAYLIGHT
DTSTART:20180325T010000
TZOFFSETFROM:+0000
TZOFFSETTO:+0100
TZNAME:IST
END:DAYLIGHT
END:VTIMEZONE
BEGIN:VEVENT
UID:ai1ec-10757@stconleths.ie/cms
DTSTAMP:20171101T023417Z
CATEGORIES;LANGUAGE=en-GB:SS co-curriculum\,SS curriculum
CONTACT:
DESCRIPTION:
DTSTART;VALUE=DATE:20171127
DTEND;VALUE=DATE:20171202
SEQUENCE:0
SUMMARY:SS: Christmas Exams
URL:http://stconleths.ie/event/ss-christmas-exams/
X-COST-TYPE:free
END:VEVENT
BEGIN:VEVENT
UID:ai1ec-10759@stconleths.ie/cms
DTSTAMP:20171101T023417Z
CATEGORIES;LANGUAGE=en-GB:SS co-curriculum\,SS curriculum
CONTACT:
DESCRIPTION:
DTSTART;VALUE=DATE:20180201
DTEND;VALUE=DATE:20180210
SEQUENCE:0
SUMMARY:S3 / S6 : Mock Exams
URL:http://stconleths.ie/event/s3-s6-mock-exams-2/
X-COST-TYPE:free
END:VEVENT
BEGIN:VEVENT
UID:ai1ec-10761@stconleths.ie/cms
DTSTAMP:20171101T023417Z
CATEGORIES;LANGUAGE=en-GB:SS co-curriculum\,SS curriculum
CONTACT:
DESCRIPTION:
DTSTART;VALUE=DATE:20180606
DTEND;VALUE=DATE:20180623
SEQUENCE:0
SUMMARY:SS: JC & LC Exams
URL:http://stconleths.ie/event/ss-jc-lc-exams/
X-COST-TYPE:free
END:VEVENT
BEGIN:VEVENT
UID:ai1ec-10142@stconleths.ie/cms
DTSTAMP:20171101T023417Z
CATEGORIES;LANGUAGE=en-GB:SS co-curriculum
CONTACT:
DESCRIPTION:
DTSTART;TZID=Europe/Dublin:20171106T160000
DTEND;TZID=Europe/Dublin:20171106T170000
EXDATE;TZID=Europe/Dublin:20161031T160000
EXDATE;TZID=Europe/Dublin:20161128T160000
EXDATE;TZID=Europe/Dublin:20161226T160000
EXDATE;TZID=Europe/Dublin:20170102T160000
EXDATE;TZID=Europe/Dublin:20170220T160000
EXDATE;TZID=Europe/Dublin:20170320T160000
EXDATE;TZID=Europe/Dublin:20170410T160000
EXDATE;TZID=Europe/Dublin:20170417T160000
EXDATE;TZID=Europe/Dublin:20170501T160000
EXDATE;TZID=Europe/Dublin:20171030T160000
EXDATE;TZID=Europe/Dublin:20171225T160000
EXDATE;TZID=Europe/Dublin:20180101T160000
EXDATE;TZID=Europe/Dublin:20180212T160000
EXDATE;TZID=Europe/Dublin:20180319T160000
EXDATE;TZID=Europe/Dublin:20180326T160000
EXDATE;TZID=Europe/Dublin:20180402T160000
GEO:+53.32187;-6.220764
LOCATION:Wanderers FC @ Wanderers Football Club\, Dublin\, Co. Dublin\, Ire
 land
RRULE:FREQ=WEEKLY;UNTIL=20180327T235959Z;BYDAY=MO;WKST=MO
SEQUENCE:0
SUMMARY:S1: 1st Yr Rugby Training
URL:http://stconleths.ie/event/s1-1st-yr-rugby-training/
X-COST-TYPE:free
END:VEVENT
BEGIN:VEVENT
UID:ai1ec-10143@stconleths.ie/cms
DTSTAMP:20171101T023417Z
CATEGORIES;LANGUAGE=en-GB:SS co-curriculum
CONTACT:
DESCRIPTION:
DTSTART;TZID=Europe/Dublin:20171106T160000
DTEND;TZID=Europe/Dublin:20171106T170000
EXDATE;TZID=Europe/Dublin:20161031T160000
EXDATE;TZID=Europe/Dublin:20161128T160000
EXDATE;TZID=Europe/Dublin:20161226T160000
EXDATE;TZID=Europe/Dublin:20170102T160000
EXDATE;TZID=Europe/Dublin:20170220T160000
EXDATE;TZID=Europe/Dublin:20170320T160000
EXDATE;TZID=Europe/Dublin:20170410T160000
EXDATE;TZID=Europe/Dublin:20170417T160000
EXDATE;TZID=Europe/Dublin:20170501T160000
EXDATE;TZID=Europe/Dublin:20171030T160000
EXDATE;TZID=Europe/Dublin:20171103T160000
EXDATE;TZID=Europe/Dublin:20171222T160000
EXDATE;TZID=Europe/Dublin:20171225T160000
EXDATE;TZID=Europe/Dublin:20171229T160000
EXDATE;TZID=Europe/Dublin:20180101T160000
EXDATE;TZID=Europe/Dublin:20180105T160000
EXDATE;TZID=Europe/Dublin:20180212T160000
EXDATE;TZID=Europe/Dublin:20180216T160000
EXDATE;TZID=Europe/Dublin:20180319T160000
EXDATE;TZID=Europe/Dublin:20180326T160000
EXDATE;TZID=Europe/Dublin:20180330T160000
EXDATE;TZID=Europe/Dublin:20180402T160000
EXDATE;TZID=Europe/Dublin:20180406T160000
GEO:+53.32187;-6.220764
LOCATION:Wanderers FC @ Wanderers Football Club\, Dublin\, Co. Dublin\, Ire
 land
RRULE:FREQ=WEEKLY;UNTIL=20180327T235959Z;BYDAY=MO,FR;WKST=MO
SEQUENCE:0
SUMMARY:S4-6: SCT Rugby Training
URL:http://stconleths.ie/event/s4-6-sct-rugby-training-5/
X-COST-TYPE:free
END:VEVENT
BEGIN:VEVENT
UID:ai1ec-10337@stconleths.ie/cms
DTSTAMP:20171101T023417Z
CATEGORIES;LANGUAGE=en-GB:SS co-curriculum
CONTACT:
DESCRIPTION:
DTSTART;TZID=Europe/Dublin:20171107T124500
DTEND;TZID=Europe/Dublin:20171107T131500
EXDATE;TZID=Europe/Dublin:20161101T124500
EXDATE;TZID=Europe/Dublin:20161108T124500
EXDATE;TZID=Europe/Dublin:20161129T124500
EXDATE;TZID=Europe/Dublin:20161227T124500
EXDATE;TZID=Europe/Dublin:20170103T124500
EXDATE;TZID=Europe/Dublin:20170221T124500
EXDATE;TZID=Europe/Dublin:20170321T124500
EXDATE;TZID=Europe/Dublin:20170411T124500
EXDATE;TZID=Europe/Dublin:20170418T124500
EXDATE;TZID=Europe/Dublin:20170516T124500
EXDATE;TZID=Europe/Dublin:20171031T124500
EXDATE;TZID=Europe/Dublin:20171226T124500
EXDATE;TZID=Europe/Dublin:20180102T124500
EXDATE;TZID=Europe/Dublin:20180213T124500
EXDATE;TZID=Europe/Dublin:20180327T124500
EXDATE;TZID=Europe/Dublin:20180403T124500
LOCATION:Room 3
RRULE:FREQ=WEEKLY;UNTIL=20180522T235959Z;BYDAY=TU;WKST=MO
SEQUENCE:0
SUMMARY:S1-S6: Lunchtime Chess Club
URL:http://stconleths.ie/event/s1-s6-lunchtime-chess-club-2/
X-COST-TYPE:free
END:VEVENT
BEGIN:VEVENT
UID:ai1ec-10153@stconleths.ie/cms
DTSTAMP:20171101T023417Z
CATEGORIES;LANGUAGE=en-GB:SS co-curriculum
CONTACT:
DESCRIPTION:
DTSTART;TZID=Europe/Dublin:20171107T153000
DTEND;TZID=Europe/Dublin:20171107T163000
EXDATE;TZID=Europe/Dublin:20171031T153000
EXDATE;TZID=Europe/Dublin:20171226T153000
EXDATE;TZID=Europe/Dublin:20180102T153000
EXDATE;TZID=Europe/Dublin:20180213T153000
EXDATE;TZID=Europe/Dublin:20180327T153000
EXDATE;TZID=Europe/Dublin:20180403T153000
GEO:+53.327539;-6.235471
LOCATION:Herbert Park Astro @ Herbert Park\, 4 Herbert Park\, Dublin\, Irel
 and
RRULE:FREQ=WEEKLY;UNTIL=20180522T235959Z;BYDAY=TU;WKST=MO
SEQUENCE:0
SUMMARY:SS Girls: Hockey Training
URL:http://stconleths.ie/event/ss-girls-hockey-training-2/
X-COST-TYPE:free
END:VEVENT
BEGIN:VEVENT
UID:ai1ec-10150@stconleths.ie/cms
DTSTAMP:20171101T023417Z
CATEGORIES;LANGUAGE=en-GB:SS co-curriculum
CONTACT:Mr Bolger \; Bolger@gmail.com
DESCRIPTION:
DTSTART;TZID=Europe/Dublin:20171107T160000
DTEND;TZID=Europe/Dublin:20171107T173000
EXDATE;TZID=Europe/Dublin:20161101T160000
EXDATE;TZID=Europe/Dublin:20161108T160000
EXDATE;TZID=Europe/Dublin:20161129T160000
EXDATE;TZID=Europe/Dublin:20161227T160000
EXDATE;TZID=Europe/Dublin:20170103T160000
EXDATE;TZID=Europe/Dublin:20170221T160000
EXDATE;TZID=Europe/Dublin:20170411T160000
EXDATE;TZID=Europe/Dublin:20170418T160000
EXDATE;TZID=Europe/Dublin:20171031T160000
EXDATE;TZID=Europe/Dublin:20171226T160000
EXDATE;TZID=Europe/Dublin:20180102T160000
EXDATE;TZID=Europe/Dublin:20180213T160000
EXDATE;TZID=Europe/Dublin:20180327T160000
EXDATE;TZID=Europe/Dublin:20180403T160000
GEO:+53.321644;-6.228333
LOCATION:Old Belvedere RFC @ Anglesea Rd\, Dublin 4\, Ireland
RRULE:FREQ=WEEKLY;UNTIL=20180327T235959Z;BYDAY=TU;WKST=MO
SEQUENCE:0
SUMMARY:S2-3: 2’nd Year + JCT Rugby Training
URL:http://stconleths.ie/event/s2-3-2nd-year-jct-rugby-training/
X-COST-TYPE:free
END:VEVENT
BEGIN:VEVENT
UID:ai1ec-10151@stconleths.ie/cms
DTSTAMP:20171101T023417Z
CATEGORIES;LANGUAGE=en-GB:SS co-curriculum
CONTACT:
DESCRIPTION:
DTSTART;TZID=Europe/Dublin:20171108T131500
EXDATE;TZID=Europe/Dublin:20161102T131500
EXDATE;TZID=Europe/Dublin:20161130T131500
EXDATE;TZID=Europe/Dublin:20161228T131500
EXDATE;TZID=Europe/Dublin:20170104T131500
EXDATE;TZID=Europe/Dublin:20170222T131500
EXDATE;TZID=Europe/Dublin:20170412T131500
EXDATE;TZID=Europe/Dublin:20170419T131500
EXDATE;TZID=Europe/Dublin:20170426T131500
EXDATE;TZID=Europe/Dublin:20171101T131500
EXDATE;TZID=Europe/Dublin:20171227T131500
EXDATE;TZID=Europe/Dublin:20180103T131500
EXDATE;TZID=Europe/Dublin:20180214T131500
EXDATE;TZID=Europe/Dublin:20180328T131500
EXDATE;TZID=Europe/Dublin:20180404T131500
RRULE:FREQ=WEEKLY;UNTIL=20180328T235959Z;BYDAY=WE;WKST=MO
SEQUENCE:0
SUMMARY:SS: Rugby Matches  (Organised Weekly)
URL:http://stconleths.ie/event/ss-rugby-matches-organised-weekly-2/
X-COST-TYPE:free
X-INSTANT-EVENT:1
END:VEVENT
BEGIN:VEVENT
UID:ai1ec-10744@stconleths.ie/cms
DTSTAMP:20171101T023417Z
CATEGORIES;LANGUAGE=en-GB:SS co-curriculum
CONTACT:
DESCRIPTION:
DTSTART;TZID=Europe/Dublin:20171108T133000
DTEND;TZID=Europe/Dublin:20171108T141500
LOCATION:School Canteen
SEQUENCE:0
SUMMARY:S5: Parents’ Lunch for Fifth Years
URL:http://stconleths.ie/event/s5-parents-lunch-for-fifth-years-2/
X-COST-TYPE:free
END:VEVENT
BEGIN:VEVENT
UID:ai1ec-10338@stconleths.ie/cms
DTSTAMP:20171101T023417Z
CATEGORIES;LANGUAGE=en-GB:SS co-curriculum
CONTACT:
DESCRIPTION:
DTSTART;TZID=Europe/Dublin:20171109T153000
DTEND;TZID=Europe/Dublin:20171109T163000
EXDATE;TZID=Europe/Dublin:20151208T153000
EXDATE;TZID=Europe/Dublin:20151222T153000
EXDATE;TZID=Europe/Dublin:20151229T153000
EXDATE;TZID=Europe/Dublin:20160105T153000
EXDATE;TZID=Europe/Dublin:20160119T153000
EXDATE;TZID=Europe/Dublin:20160216T153000
EXDATE;TZID=Europe/Dublin:20160223T153000
EXDATE;TZID=Europe/Dublin:20160308T153000
EXDATE;TZID=Europe/Dublin:20160322T153000
EXDATE;TZID=Europe/Dublin:20160329T153000
EXDATE;TZID=Europe/Dublin:20160503T153000
EXDATE;TZID=Europe/Dublin:20161101T153000
EXDATE;TZID=Europe/Dublin:20161108T153000
EXDATE;TZID=Europe/Dublin:20161122T153000
EXDATE;TZID=Europe/Dublin:20161129T153000
EXDATE;TZID=Europe/Dublin:20161227T153000
EXDATE;TZID=Europe/Dublin:20170103T153000
EXDATE;TZID=Europe/Dublin:20170221T153000
EXDATE;TZID=Europe/Dublin:20170321T153000
EXDATE;TZID=Europe/Dublin:20170411T153000
EXDATE;TZID=Europe/Dublin:20170418T153000
EXDATE;TZID=Europe/Dublin:20170516T153000
EXDATE;TZID=Europe/Dublin:20171026T153000
EXDATE;TZID=Europe/Dublin:20171102T153000
EXDATE;TZID=Europe/Dublin:20171228T153000
EXDATE;TZID=Europe/Dublin:20180104T153000
EXDATE;TZID=Europe/Dublin:20180215T153000
EXDATE;TZID=Europe/Dublin:20180329T153000
EXDATE;TZID=Europe/Dublin:20180405T153000
LOCATION:St. Conleths ICT Room
RRULE:FREQ=WEEKLY;UNTIL=20180524T235959Z;BYDAY=TH;WKST=MO
SEQUENCE:0
SUMMARY:S1-S6: Coding Club
URL:http://stconleths.ie/event/s1-s6-coding-club-2/
X-COST-TYPE:free
END:VEVENT
BEGIN:VEVENT
UID:ai1ec-10154@stconleths.ie/cms
DTSTAMP:20171101T023417Z
CATEGORIES;LANGUAGE=en-GB:SS co-curriculum
CONTACT:
DESCRIPTION:
DTSTART;TZID=Europe/Dublin:20171109T160000
DTEND;TZID=Europe/Dublin:20171109T170000
EXDATE;TZID=Europe/Dublin:20171102T160000
EXDATE;TZID=Europe/Dublin:20171228T160000
EXDATE;TZID=Europe/Dublin:20180104T160000
EXDATE;TZID=Europe/Dublin:20180215T160000
EXDATE;TZID=Europe/Dublin:20180329T160000
EXDATE;TZID=Europe/Dublin:20180405T160000
GEO:+53.328963;-6.224216
LOCATION:Pembroke Wanderers Hockey @ 4 Serpentine Ave\, Dublin\, Ireland
RRULE:FREQ=WEEKLY;UNTIL=20180524T235959Z;BYDAY=TH;WKST=MO
SEQUENCE:0
SUMMARY:SS Girls: Hockey Training
URL:http://stconleths.ie/event/ss-girls-hockey-training-3/
X-COST-TYPE:free
END:VEVENT
BEGIN:VEVENT
UID:ai1ec-10748@stconleths.ie/cms
DTSTAMP:20171101T023417Z
CATEGORIES;LANGUAGE=en-GB:SS co-curriculum\,SS curriculum
CONTACT:
DESCRIPTION:
DTSTART;TZID=Europe/Dublin:20171109T161500
DTEND;TZID=Europe/Dublin:20171109T184500
LOCATION:School Hall
SEQUENCE:0
SUMMARY:S3 : Parent Teacher Meetings
URL:http://stconleths.ie/event/s3-parent-teacher-meetings-3/
X-COST-TYPE:free
END:VEVENT
BEGIN:VEVENT
UID:ai1ec-1200@stconleths.ie/cms
DTSTAMP:20171101T023417Z
CATEGORIES;LANGUAGE=en-GB:SS co-curriculum
CONTACT:
DESCRIPTION:
DTSTART;TZID=Europe/Dublin:20171110T153000
DTEND;TZID=Europe/Dublin:20171110T163000
EXDATE;TZID=Europe/Dublin:20161028T153000
EXDATE;TZID=Europe/Dublin:20161104T153000
EXDATE;TZID=Europe/Dublin:20161223T153000
EXDATE;TZID=Europe/Dublin:20161230T153000
EXDATE;TZID=Europe/Dublin:20170106T153000
EXDATE;TZID=Europe/Dublin:20170224T153000
EXDATE;TZID=Europe/Dublin:20170317T153000
EXDATE;TZID=Europe/Dublin:20170414T153000
EXDATE;TZID=Europe/Dublin:20170421T153000
EXDATE;TZID=Europe/Dublin:20171103T153000
EXDATE;TZID=Europe/Dublin:20171222T153000
EXDATE;TZID=Europe/Dublin:20171229T153000
EXDATE;TZID=Europe/Dublin:20180105T153000
EXDATE;TZID=Europe/Dublin:20180216T153000
EXDATE;TZID=Europe/Dublin:20180330T153000
EXDATE;TZID=Europe/Dublin:20180406T153000
GEO:+53.327964;-6.240348
LOCATION:St.Conleth's College Canteen @ Saint Conleths College\, Clyde Rd\,
  Dublin 4\, Ireland
RRULE:FREQ=WEEKLY;UNTIL=20180525T235959Z;BYDAY=FR;WKST=MO
SEQUENCE:0
SUMMARY:S1 – S6: Fencing (all Senior School)
URL:http://stconleths.ie/event/s1-s6-fencing/
X-COST-TYPE:external
X-COST:€220
END:VEVENT
BEGIN:VEVENT
UID:ai1ec-10146@stconleths.ie/cms
DTSTAMP:20171101T023417Z
CATEGORIES;LANGUAGE=en-GB:SS co-curriculum
CONTACT:
DESCRIPTION:
DTSTART;TZID=Europe/Dublin:20171110T160000
DTEND;TZID=Europe/Dublin:20171110T173000
EXDATE;TZID=Europe/Dublin:20161028T160000
EXDATE;TZID=Europe/Dublin:20161104T160000
EXDATE;TZID=Europe/Dublin:20161202T160000
EXDATE;TZID=Europe/Dublin:20161223T160000
EXDATE;TZID=Europe/Dublin:20161230T160000
EXDATE;TZID=Europe/Dublin:20170106T160000
EXDATE;TZID=Europe/Dublin:20170224T160000
EXDATE;TZID=Europe/Dublin:20170317T160000
EXDATE;TZID=Europe/Dublin:20170414T160000
EXDATE;TZID=Europe/Dublin:20170421T160000
EXDATE;TZID=Europe/Dublin:20171103T160000
EXDATE;TZID=Europe/Dublin:20171222T160000
EXDATE;TZID=Europe/Dublin:20171229T160000
EXDATE;TZID=Europe/Dublin:20180105T160000
EXDATE;TZID=Europe/Dublin:20180216T160000
EXDATE;TZID=Europe/Dublin:20180330T160000
EXDATE;TZID=Europe/Dublin:20180406T160000
GEO:+53.32187;-6.220764
LOCATION:Wanderers FC @ Wanderers Football Club\, Dublin\, Co. Dublin\, Ire
 land
RRULE:FREQ=WEEKLY;UNTIL=20180330T235959Z;BYDAY=FR;WKST=MO
SEQUENCE:0
SUMMARY:S2-3: 2nd Yr + JCT Rugby Training
URL:http://stconleths.ie/event/s2-3-2nd-yr-jct-rugby-training/
X-COST-TYPE:free
END:VEVENT
BEGIN:VEVENT
UID:ai1ec-10955@stconleths.ie/cms
DTSTAMP:20171101T023417Z
CATEGORIES;LANGUAGE=en-GB:SS co-curriculum\,SS curriculum
CONTACT:
DESCRIPTION:
DTSTART;TZID=Europe/Dublin:20171115T101500
DTEND;TZID=Europe/Dublin:20171115T124500
GEO:+53.321512;-6.265572
LOCATION:Omniplex Rathmines @ 210 Rathmines Rd Lower\, Dublin 6\, Ireland
SEQUENCE:0
SUMMARY:S4-6: Cinema Outing – The Keeper and the Drummer-
URL:http://stconleths.ie/event/s4-6-cinema-outing-the-keeper-and-the-drumme
 r/
X-COST-TYPE:free
END:VEVENT
BEGIN:VEVENT
UID:ai1ec-10745@stconleths.ie/cms
DTSTAMP:20171101T023417Z
CATEGORIES;LANGUAGE=en-GB:SS co-curriculum
CONTACT:
DESCRIPTION:
DTSTART;TZID=Europe/Dublin:20171115T133000
DTEND;TZID=Europe/Dublin:20171115T141500
LOCATION:School Canteen
SEQUENCE:0
SUMMARY:S6: Parents’ Lunch for Sixth Years
URL:http://stconleths.ie/event/s6-parents-lunch-for-sixth-years-2/
X-COST-TYPE:free
END:VEVENT
BEGIN:VEVENT
UID:ai1ec-10479@stconleths.ie/cms
DTSTAMP:20171101T023417Z
CATEGORIES;LANGUAGE=en-GB:JS co-curriculum\,JS curriculum\,SS co-curriculum
 \,SS curriculum
CONTACT:
DESCRIPTION:
DTSTART;TZID=Europe/Dublin:20171120T193000
GEO:+53.328297;-6.24082
LOCATION:St. Conleth's College @ Clyde Rd\, Dublin 4\, Ireland
SEQUENCE:0
SUMMARY:Information Evening for Prospective Pupils and Parents
URL:http://stconleths.ie/event/information-evening-for-prospective-pupils-a
 nd-parents-nov-20th/
X-COST-TYPE:free
X-INSTANT-EVENT:1
END:VEVENT
BEGIN:VEVENT
UID:ai1ec-10750@stconleths.ie/cms
DTSTAMP:20171101T023417Z
CATEGORIES;LANGUAGE=en-GB:SS co-curriculum\,SS curriculum
CONTACT:
DESCRIPTION:
DTSTART;TZID=Europe/Dublin:20171121T161500
DTEND;TZID=Europe/Dublin:20171121T184500
LOCATION:School Hall
SEQUENCE:0
SUMMARY:S5 : Parent Teacher Meetings
URL:http://stconleths.ie/event/s5-parent-teacher-meetings-3/
X-COST-TYPE:free
END:VEVENT
BEGIN:VEVENT
UID:ai1ec-10752@stconleths.ie/cms
DTSTAMP:20171101T023417Z
CATEGORIES;LANGUAGE=en-GB:SS co-curriculum\,SS curriculum
CONTACT:
DESCRIPTION:
DTSTART;TZID=Europe/Dublin:20171207T161500
DTEND;TZID=Europe/Dublin:20171207T184500
LOCATION:School Hall
SEQUENCE:0
SUMMARY:S1 : Parent Teacher Meetings
URL:http://stconleths.ie/event/s1-parent-teacher-meetings-3/
X-COST-TYPE:free
END:VEVENT
BEGIN:VEVENT
UID:ai1ec-10753@stconleths.ie/cms
DTSTAMP:20171101T023417Z
CATEGORIES;LANGUAGE=en-GB:SS co-curriculum\,SS curriculum
CONTACT:
DESCRIPTION:
DTSTART;TZID=Europe/Dublin:20180115T161500
DTEND;TZID=Europe/Dublin:20180115T184500
LOCATION:School Hall
SEQUENCE:0
SUMMARY:S2 : Parent Teacher Meetings
URL:http://stconleths.ie/event/s2-parent-teacher-meetings-3/
X-COST-TYPE:free
END:VEVENT
BEGIN:VEVENT
UID:ai1ec-10756@stconleths.ie/cms
DTSTAMP:20171101T023417Z
CATEGORIES;LANGUAGE=en-GB:SS co-curriculum\,SS curriculum
CONTACT:
DESCRIPTION:
DTSTART;TZID=Europe/Dublin:20180202T161500
DTEND;TZID=Europe/Dublin:20180202T184500
LOCATION:School Hall
SEQUENCE:0
SUMMARY:S4: TY Parent Teacher Meetings
URL:http://stconleths.ie/event/s4-ty-parent-teacher-meetings/
X-COST-TYPE:free
END:VEVENT
BEGIN:VEVENT
UID:ai1ec-8866@stconleths.ie/cms
DTSTAMP:20171101T023417Z
CATEGORIES;LANGUAGE=en-GB:SS co-curriculum\,SS curriculum
CONTACT:
DESCRIPTION:
DTSTART;TZID=Europe/Dublin:20180528T121200
DTEND;TZID=Europe/Dublin:20180601T131200
SEQUENCE:0
SUMMARY:S1\,2\,5: Summer Exams
URL:http://stconleths.ie/event/s125-summer-exams/
X-COST-TYPE:free
END:VEVENT
BEGIN:VEVENT
UID:ai1ec-10145@stconleths.ie/cms
DTSTAMP:20171101T023417Z
CATEGORIES;LANGUAGE=en-GB:SS co-curriculum
CONTACT:
DESCRIPTION:
DTSTART;TZID=Europe/Dublin:20180911T153000
DTEND;TZID=Europe/Dublin:20180911T171500
EXDATE;TZID=Europe/Dublin:20170921T153000
GEO:+53.308341;-6.229176
LOCATION:UCD Sports Centre @ 4 Wynnsward Dr\, Belfield\, Dublin 4\, D04 P9C
 4\, Ireland
RDATE;TZID=Europe/Dublin:20170914T153000
RDATE;TZID=Europe/Dublin:20170919T153000
RDATE;TZID=Europe/Dublin:20170921T153000
RDATE;TZID=Europe/Dublin:20170926T153000
RDATE;TZID=Europe/Dublin:20170928T153000
RDATE;TZID=Europe/Dublin:20171003T153000
RDATE;TZID=Europe/Dublin:20171005T153000
RDATE;TZID=Europe/Dublin:20171010T153000
RDATE;TZID=Europe/Dublin:20171012T153000
RDATE;TZID=Europe/Dublin:20180911T153000
RDATE;TZID=Europe/Dublin:20180918T153000
SEQUENCE:0
SUMMARY:S3-6: Boys U16 and U19 Basketball Training
URL:http://stconleths.ie/event/s3-6-u16-and-u19-basketball-training-3/
X-COST-TYPE:free
END:VEVENT
END:VCALENDAR
