BEGIN:VCALENDAR
VERSION:2.0
PRODID:-//78.137.164.234//NONSGML kigkonsult.se iCalcreator 2.20//
CALSCALE:GREGORIAN
METHOD:PUBLISH
X-FROM-URL:http://stconleths.ie
X-WR-TIMEZONE:Europe/Dublin
BEGIN:VTIMEZONE
TZID:Europe/Dublin
X-LIC-LOCATION:Europe/Dublin
BEGIN:STANDARD
DTSTART:20171029T020000
TZOFFSETFROM:+0100
TZOFFSETTO:+0000
TZNAME:GMT
END:STANDARD
BEGIN:DAYLIGHT
DTSTART:20180325T010000
TZOFFSETFROM:+0000
TZOFFSETTO:+0100
TZNAME:IST
END:DAYLIGHT
END:VTIMEZONE
BEGIN:VEVENT
UID:ai1ec-10262@stconleths.ie/cms
DTSTAMP:20171101T022754Z
CATEGORIES;LANGUAGE=en-GB:JS co-curriculum\,JS curriculum
CONTACT:
DESCRIPTION:
DTSTART;VALUE=DATE:20171121
DTEND;VALUE=DATE:20171123
GEO:+53.483138;-2.200395
LOCATION:Etihad Stadium @ Etihad Stadium\, Ashton New Rd\, Manchester\, Man
 chester M11 3FF\, UK
SEQUENCE:0
SUMMARY:J5-J6: Trip to Manchester City
URL:http://stconleths.ie/event/j5-j6-trip-to-manchester-city/
X-COST-TYPE:free
END:VEVENT
BEGIN:VEVENT
UID:ai1ec-1028@stconleths.ie/cms
DTSTAMP:20171101T022754Z
CATEGORIES;LANGUAGE=en-GB:JS co-curriculum
CONTACT:
DESCRIPTION:
DTSTART;TZID=Europe/Dublin:20171106T144500
DTEND;TZID=Europe/Dublin:20171106T154500
EXDATE;TZID=Europe/Dublin:20151029T144500
EXDATE;TZID=Europe/Dublin:20171030T144500
EXDATE;TZID=Europe/Dublin:20171225T144500
EXDATE;TZID=Europe/Dublin:20180101T144500
EXDATE;TZID=Europe/Dublin:20180212T144500
EXDATE;TZID=Europe/Dublin:20180319T144500
EXDATE;TZID=Europe/Dublin:20180326T144500
EXDATE;TZID=Europe/Dublin:20180402T144500
EXDATE;TZID=Europe/Dublin:20180507T144500
RRULE:FREQ=WEEKLY;UNTIL=20180521T235959Z;BYDAY=MO;WKST=MO
SEQUENCE:0
SUMMARY:J1-J6: Chess
URL:http://stconleths.ie/event/j1-j6-chess/
X-COST-TYPE:free
END:VEVENT
BEGIN:VEVENT
UID:ai1ec-10193@stconleths.ie/cms
DTSTAMP:20171101T022754Z
CATEGORIES;LANGUAGE=en-GB:JS co-curriculum
CONTACT:
DESCRIPTION:
DTSTART;TZID=Europe/Dublin:20171108T134500
DTEND;TZID=Europe/Dublin:20171108T144500
EXDATE;TZID=Europe/Dublin:20161102T134500
EXDATE;TZID=Europe/Dublin:20161228T134500
EXDATE;TZID=Europe/Dublin:20170104T134500
EXDATE;TZID=Europe/Dublin:20170222T134500
EXDATE;TZID=Europe/Dublin:20170412T134500
EXDATE;TZID=Europe/Dublin:20170419T134500
EXDATE;TZID=Europe/Dublin:20171101T134500
EXDATE;TZID=Europe/Dublin:20171227T134500
EXDATE;TZID=Europe/Dublin:20180103T134500
EXDATE;TZID=Europe/Dublin:20180214T134500
EXDATE;TZID=Europe/Dublin:20180328T134500
EXDATE;TZID=Europe/Dublin:20180404T134500
LOCATION:School Hall (or School Yard)
RRULE:FREQ=WEEKLY;UNTIL=20180530T235959Z;BYDAY=WE;WKST=MO
SEQUENCE:0
SUMMARY:Ji +Si: Karate
URL:http://stconleths.ie/event/ji-si-karate-2/
X-COST-TYPE:free
END:VEVENT
BEGIN:VEVENT
UID:ai1ec-5568@stconleths.ie/cms
DTSTAMP:20171101T022754Z
CATEGORIES;LANGUAGE=en-GB:JS co-curriculum
CONTACT:
DESCRIPTION:
DTSTART;TZID=Europe/Dublin:20171108T150000
DTEND;TZID=Europe/Dublin:20171108T160000
EXDATE;TZID=Europe/Dublin:20161102T150000
EXDATE;TZID=Europe/Dublin:20161228T150000
EXDATE;TZID=Europe/Dublin:20170104T150000
EXDATE;TZID=Europe/Dublin:20170222T150000
EXDATE;TZID=Europe/Dublin:20170412T150000
EXDATE;TZID=Europe/Dublin:20170419T150000
EXDATE;TZID=Europe/Dublin:20171101T150000
EXDATE;TZID=Europe/Dublin:20171227T150000
EXDATE;TZID=Europe/Dublin:20180103T150000
EXDATE;TZID=Europe/Dublin:20180214T150000
EXDATE;TZID=Europe/Dublin:20180328T150000
EXDATE;TZID=Europe/Dublin:20180404T150000
LOCATION:School Hall (or School Yard)
RRULE:FREQ=WEEKLY;UNTIL=20180530T235959Z;BYDAY=WE;WKST=MO
SEQUENCE:0
SUMMARY:J1-J6: Karate
URL:http://stconleths.ie/event/j1-j6-karate/
X-COST-TYPE:free
END:VEVENT
BEGIN:VEVENT
UID:ai1ec-1248@stconleths.ie/cms
DTSTAMP:20171101T022754Z
CATEGORIES;LANGUAGE=en-GB:JS co-curriculum
CONTACT:
DESCRIPTION:
DTSTART;TZID=Europe/Dublin:20171108T150000
DTEND;TZID=Europe/Dublin:20171108T160000
EXDATE;TZID=Europe/Dublin:20151028T150000
EXDATE;TZID=Europe/Dublin:20151223T150000
EXDATE;TZID=Europe/Dublin:20151230T150000
EXDATE;TZID=Europe/Dublin:20160217T150000
EXDATE;TZID=Europe/Dublin:20160323T150000
EXDATE;TZID=Europe/Dublin:20160330T150000
EXDATE;TZID=Europe/Dublin:20171101T150000
EXDATE;TZID=Europe/Dublin:20171227T150000
EXDATE;TZID=Europe/Dublin:20180103T150000
EXDATE;TZID=Europe/Dublin:20180214T150000
EXDATE;TZID=Europe/Dublin:20180328T150000
EXDATE;TZID=Europe/Dublin:20180404T150000
GEO:+53.32777;-6.235385
LOCATION:Herbert Park Astro @ Herbert Park\, 4 Herbert Park\, Dublin\, Irel
 and
RRULE:FREQ=WEEKLY;UNTIL=20180523T235959Z;BYDAY=WE;WKST=MO
SEQUENCE:0
SUMMARY:J2-J6 After School Soccer
URL:http://stconleths.ie/event/soccer/
X-COST-TYPE:free
END:VEVENT
BEGIN:VEVENT
UID:ai1ec-5718@stconleths.ie/cms
DTSTAMP:20171101T022754Z
CATEGORIES;LANGUAGE=en-GB:JS co-curriculum
CONTACT:
DESCRIPTION:<p>There are two separate sessions: 3-4 and 4-5.</p>\n<p>The la
 ter session id for those doing another activity at 3:00.</p>
DTSTART;TZID=Europe/Dublin:20171108T150000
DTEND;TZID=Europe/Dublin:20171108T170000
EXDATE;TZID=Europe/Dublin:20151208T150000
EXDATE;TZID=Europe/Dublin:20151222T150000
EXDATE;TZID=Europe/Dublin:20151229T150000
EXDATE;TZID=Europe/Dublin:20160105T150000
EXDATE;TZID=Europe/Dublin:20160119T150000
EXDATE;TZID=Europe/Dublin:20160216T150000
EXDATE;TZID=Europe/Dublin:20160223T150000
EXDATE;TZID=Europe/Dublin:20160308T150000
EXDATE;TZID=Europe/Dublin:20160322T150000
EXDATE;TZID=Europe/Dublin:20160329T150000
EXDATE;TZID=Europe/Dublin:20160503T150000
EXDATE;TZID=Europe/Dublin:20161102T150000
EXDATE;TZID=Europe/Dublin:20161228T150000
EXDATE;TZID=Europe/Dublin:20170104T150000
EXDATE;TZID=Europe/Dublin:20170222T150000
EXDATE;TZID=Europe/Dublin:20170412T150000
EXDATE;TZID=Europe/Dublin:20170419T150000
EXDATE;TZID=Europe/Dublin:20171101T150000
EXDATE;TZID=Europe/Dublin:20171227T150000
EXDATE;TZID=Europe/Dublin:20180103T150000
EXDATE;TZID=Europe/Dublin:20180214T150000
EXDATE;TZID=Europe/Dublin:20180328T150000
EXDATE;TZID=Europe/Dublin:20180404T150000
LOCATION:St. Conleths ICT Room
RRULE:FREQ=WEEKLY;UNTIL=20180523T235959Z;BYDAY=WE;WKST=MO
SEQUENCE:0
SUMMARY:J2-J6: Junior Coding Club
URL:http://stconleths.ie/event/j2-j6-junior-coding-club/
X-COST-TYPE:free
END:VEVENT
BEGIN:VEVENT
UID:ai1ec-10249@stconleths.ie/cms
DTSTAMP:20171101T022754Z
CATEGORIES;LANGUAGE=en-GB:JS co-curriculum\,JS curriculum
CONTACT:
DESCRIPTION:
DTSTART;TZID=Europe/Dublin:20171109T144500
DTEND;TZID=Europe/Dublin:20171109T154500
EXDATE;TZID=Europe/Dublin:20171102T144500
EXDATE;TZID=Europe/Dublin:20171228T144500
EXDATE;TZID=Europe/Dublin:20180104T144500
EXDATE;TZID=Europe/Dublin:20180215T144500
EXDATE;TZID=Europe/Dublin:20180329T144500
EXDATE;TZID=Europe/Dublin:20180405T144500
RRULE:FREQ=WEEKLY;UNTIL=20180524T235959Z;BYDAY=TH;WKST=MO
SEQUENCE:0
SUMMARY:J2-J6: Choir Practice
URL:http://stconleths.ie/event/j2-j6-choir-practice/
X-COST-TYPE:free
END:VEVENT
BEGIN:VEVENT
UID:ai1ec-1241@stconleths.ie/cms
DTSTAMP:20171101T022754Z
CATEGORIES;LANGUAGE=en-GB:JS co-curriculum
CONTACT:
DESCRIPTION:
DTSTART;TZID=Europe/Dublin:20171110T134500
DTEND;TZID=Europe/Dublin:20171110T153000
EXDATE;TZID=Europe/Dublin:20151030T134500
EXDATE;TZID=Europe/Dublin:20151218T134500
EXDATE;TZID=Europe/Dublin:20151225T134500
EXDATE;TZID=Europe/Dublin:20160101T134500
EXDATE;TZID=Europe/Dublin:20160108T134500
EXDATE;TZID=Europe/Dublin:20160219T134500
EXDATE;TZID=Europe/Dublin:20160318T134500
EXDATE;TZID=Europe/Dublin:20160325T134500
EXDATE;TZID=Europe/Dublin:20160401T134500
EXDATE;TZID=Europe/Dublin:20171103T134500
EXDATE;TZID=Europe/Dublin:20171117T134500
EXDATE;TZID=Europe/Dublin:20171229T134500
EXDATE;TZID=Europe/Dublin:20180105T134500
EXDATE;TZID=Europe/Dublin:20180216T134500
EXDATE;TZID=Europe/Dublin:20180330T134500
EXDATE;TZID=Europe/Dublin:20180406T134500
GEO:+53.327964;-6.240348
LOCATION:St.Conleth's College @ Saint Conleths College\, Clyde Rd\, Dublin 
 4\, Ireland
RRULE:FREQ=WEEKLY;UNTIL=20171110T235959Z;BYDAY=FR;WKST=MO
SEQUENCE:0
SUMMARY:J1\, J5\, J6: Fencing
URL:http://stconleths.ie/event/j1-j6-fencing/
X-COST-TYPE:external
X-COST:€220
END:VEVENT
BEGIN:VEVENT
UID:ai1ec-10260@stconleths.ie/cms
DTSTAMP:20171101T022754Z
CATEGORIES;LANGUAGE=en-GB:JS co-curriculum\,JS curriculum
CONTACT:
DESCRIPTION:
DTSTART;TZID=Europe/Dublin:20171117T123000
DTEND;TZID=Europe/Dublin:20171117T160000
SEQUENCE:0
SUMMARY:Ji – J6 : Junior School PTM (school day ends at 12:00)
URL:http://stconleths.ie/event/ji-j6-junior-school-ptm-school-day-ends-at-1
 200/
X-COST-TYPE:free
END:VEVENT
BEGIN:VEVENT
UID:ai1ec-10261@stconleths.ie/cms
DTSTAMP:20171101T022754Z
CATEGORIES;LANGUAGE=en-GB:JS co-curriculum
CONTACT:
DESCRIPTION:
DTSTART;TZID=Europe/Dublin:20171118T090000
DTEND;TZID=Europe/Dublin:20171118T100000
GEO:+53.274106;-6.178838
LOCATION:Willow Park @ Willow Park\, Dublin\, Ireland
SEQUENCE:0
SUMMARY:J3-6: Rugby Matches @ Willow Park
URL:http://stconleths.ie/event/j3-6-rugby-matches-willow-park/
X-COST-TYPE:free
END:VEVENT
BEGIN:VEVENT
UID:ai1ec-10479@stconleths.ie/cms
DTSTAMP:20171101T022754Z
CATEGORIES;LANGUAGE=en-GB:JS co-curriculum\,JS curriculum\,SS co-curriculum
 \,SS curriculum
CONTACT:
DESCRIPTION:
DTSTART;TZID=Europe/Dublin:20171120T193000
GEO:+53.328297;-6.24082
LOCATION:St. Conleth's College @ Clyde Rd\, Dublin 4\, Ireland
SEQUENCE:0
SUMMARY:Information Evening for Prospective Pupils and Parents
URL:http://stconleths.ie/event/information-evening-for-prospective-pupils-a
 nd-parents-nov-20th/
X-COST-TYPE:free
X-INSTANT-EVENT:1
END:VEVENT
BEGIN:VEVENT
UID:ai1ec-10263@stconleths.ie/cms
DTSTAMP:20171101T022754Z
CATEGORIES;LANGUAGE=en-GB:JS co-curriculum
CONTACT:
DESCRIPTION:
DTSTART;TZID=Europe/Dublin:20171124T140000
DTEND;TZID=Europe/Dublin:20171124T144500
GEO:+53.327964;-6.240348
LOCATION:St.Conleth's College @ Saint Conleths College\, Clyde Rd\, Dublin 
 4\, Ireland
RRULE:FREQ=WEEKLY;UNTIL=20180209T235959Z;BYDAY=FR;WKST=MO
SEQUENCE:0
SUMMARY:J2\, J3\, J4: Fencing
URL:http://stconleths.ie/event/j2-j3-j4-fencing/
X-COST-TYPE:external
X-COST:€220
END:VEVENT
BEGIN:VEVENT
UID:ai1ec-10264@stconleths.ie/cms
DTSTAMP:20171101T022754Z
CATEGORIES;LANGUAGE=en-GB:JS co-curriculum
CONTACT:
DESCRIPTION:
DTSTART;TZID=Europe/Dublin:20180223T134500
DTEND;TZID=Europe/Dublin:20180223T151500
EXDATE;TZID=Europe/Dublin:20151030T134500
EXDATE;TZID=Europe/Dublin:20151218T134500
EXDATE;TZID=Europe/Dublin:20151225T134500
EXDATE;TZID=Europe/Dublin:20160101T134500
EXDATE;TZID=Europe/Dublin:20160108T134500
EXDATE;TZID=Europe/Dublin:20160219T134500
EXDATE;TZID=Europe/Dublin:20160318T134500
EXDATE;TZID=Europe/Dublin:20160325T134500
EXDATE;TZID=Europe/Dublin:20160401T134500
EXDATE;TZID=Europe/Dublin:20171103T134500
EXDATE;TZID=Europe/Dublin:20171117T134500
EXDATE;TZID=Europe/Dublin:20171229T134500
EXDATE;TZID=Europe/Dublin:20180105T134500
EXDATE;TZID=Europe/Dublin:20180216T134500
EXDATE;TZID=Europe/Dublin:20180330T134500
EXDATE;TZID=Europe/Dublin:20180406T134500
GEO:+53.327964;-6.240348
LOCATION:St.Conleth's College @ Saint Conleths College\, Clyde Rd\, Dublin 
 4\, Ireland
RRULE:FREQ=WEEKLY;UNTIL=20180525T235959Z;BYDAY=FR;WKST=MO
SEQUENCE:0
SUMMARY:J2-J6: Fencing
URL:http://stconleths.ie/event/j2-j6-fencing/
X-COST-TYPE:external
X-COST:€220
END:VEVENT
END:VCALENDAR
